BEGIN:VCALENDAR
VERSION:2.0
PRODID:-//Squarespace Inc/Squarespace 6//v6//EN
BEGIN:VEVENT
UID:5ddcae48d41b08504beb0588@squarespace.com
DTSTAMP:20191126T044819Z
DTSTART:20200126T010000Z
DTEND:20200126T040000Z
SUMMARY:The On &amp\; Ons
END:VEVENT
END:VCALENDAR
