BEGIN:VCALENDAR
VERSION:2.0
PRODID:-//Squarespace Inc/Squarespace 6//v6//EN
BEGIN:VEVENT
UID:5ddcac8ec833493f0564f8aa@squarespace.com
DTSTAMP:20191126T052242Z
DTSTART:20191206T010000Z
DTEND:20191206T043000Z
SUMMARY:Buddy Glass &amp\; Joseph Leonard
END:VEVENT
END:VCALENDAR
