BEGIN:VCALENDAR
VERSION:2.0
PRODID:-//Squarespace Inc/Squarespace 6//v6//EN
BEGIN:VEVENT
UID:5ddcae02880bee44735f4330@squarespace.com
DTSTAMP:20191126T044635Z
DTSTART:20191222T010000Z
DTEND:20191222T043000Z
SUMMARY:Smudge + Victoria
END:VEVENT
END:VCALENDAR
