BEGIN:VCALENDAR
VERSION:2.0
PRODID:-//Squarespace Inc/Squarespace 6//v6//EN
BEGIN:VEVENT
UID:5df067b2b022294159a1f5ba@squarespace.com
DTSTAMP:20191211T035132Z
DTSTART:20191211T040000Z
DTEND:20191211T050000Z
SUMMARY:rdggd
END:VEVENT
END:VCALENDAR
