BEGIN:VCALENDAR
VERSION:2.0
PRODID:-//Squarespace Inc/Squarespace 6//v6//EN
BEGIN:VEVENT
UID:5ddcacf70bedbb4a43ae9f78@squarespace.com
DTSTAMP:20191126T052338Z
DTSTART:20191211T000000Z
DTEND:20191211T043000Z
SUMMARY:Disney &amp\; Pixar Animated Movie Trivia Night
END:VEVENT
END:VCALENDAR
