BEGIN:VCALENDAR
VERSION:2.0
PRODID:-//Squarespace Inc/Squarespace 6//v6//EN
BEGIN:VEVENT
UID:5ddcabc1c833493f0564e283@squarespace.com
DTSTAMP:20191126T060736Z
DTSTART:20191130T010000Z
DTEND:20191130T043000Z
SUMMARY:Katie Brianna ‘Boots’ single launch\, with special guest Blake Dant
 ie
END:VEVENT
END:VCALENDAR
